BEGIN:VCALENDAR
VERSION:2.0
PRODID:-//NHSIE - ECPv6.15.19//NONSGML v1.0//EN
CALSCALE:GREGORIAN
METHOD:PUBLISH
X-ORIGINAL-URL:https://nhsie.org
X-WR-CALDESC:Events for NHSIE
REFRESH-INTERVAL;VALUE=DURATION:PT1H
X-Robots-Tag:noindex
X-PUBLISHED-TTL:PT1H
BEGIN:VTIMEZONE
TZID:America/Los_Angeles
BEGIN:DAYLIGHT
TZOFFSETFROM:-0800
TZOFFSETTO:-0700
TZNAME:PDT
DTSTART:20220313T100000
END:DAYLIGHT
BEGIN:STANDARD
TZOFFSETFROM:-0700
TZOFFSETTO:-0800
TZNAME:PST
DTSTART:20221106T090000
END:STANDARD
BEGIN:DAYLIGHT
TZOFFSETFROM:-0800
TZOFFSETTO:-0700
TZNAME:PDT
DTSTART:20230312T100000
END:DAYLIGHT
BEGIN:STANDARD
TZOFFSETFROM:-0700
TZOFFSETTO:-0800
TZNAME:PST
DTSTART:20231105T090000
END:STANDARD
BEGIN:DAYLIGHT
TZOFFSETFROM:-0800
TZOFFSETTO:-0700
TZNAME:PDT
DTSTART:20240310T100000
END:DAYLIGHT
BEGIN:STANDARD
TZOFFSETFROM:-0700
TZOFFSETTO:-0800
TZNAME:PST
DTSTART:20241103T090000
END:STANDARD
END:VTIMEZONE
BEGIN:VEVENT
DTSTART;TZID=America/Los_Angeles:20231209T090000
DTEND;TZID=America/Los_Angeles:20231209T170000
DTSTAMP:20260421T232145
CREATED:20231108T225212Z
LAST-MODIFIED:20231108T225212Z
UID:10000046-1702112400-1702141200@nhsie.org
SUMMARY:In-Person Home Buyer Education Class
DESCRIPTION:[vc_row][vc_column width=”1/1″][vc_button button_color=”accent” size=”btn-xl” border_width=”0″ link=”url:https%3A%2F%2Fnhsie.org%2Fwp-content%2Fuploads%2F2023%2F09%2FHome-Buyer-Education-Instructional-Sheet.pdf|target:_blank” button_color_type=”uncode-palette” uncode_shortcode_id=”205505″]Register Now![/vc_button][/vc_column][/vc_row][vc_row][vc_column width=”1/1″][vc_single_image media=”121186″ media_width_percent=”100″ border=”yes” uncode_shortcode_id=”646191″][/vc_column][/vc_row]
URL:https://nhsie.org/event/in-person-home-buyer-education-class-12-8-2023/
LOCATION:NHSIE Office\, 1845 Business Center Dr S Suite 120\, San Bernardino\, 92408\, United States
END:VEVENT
BEGIN:VEVENT
DTSTART;TZID=America/Los_Angeles:20231212T180000
DTEND;TZID=America/Los_Angeles:20231212T193000
DTSTAMP:20260421T232145
CREATED:20231106T225951Z
LAST-MODIFIED:20231117T182417Z
UID:10000045-1702404000-1702409400@nhsie.org
SUMMARY:Introduction to Homeownership - Virtual
DESCRIPTION:[vc_row][vc_column width=”2/3″][vc_single_image media=”121190″ media_width_percent=”100″ uncode_shortcode_id=”774282″][/vc_column][vc_column width=”1/3″][vc_column_text uncode_shortcode_id=”160866″] \n  \n  \nYou should consider joining this class if you are interested in becoming a Homeowner and want to get some basic information that helps you decide if homeownership is right for you. \nThe class gives you an overview of the homebuying process and lets you know whether you can afford to buy a home now. Even if you determine that you’re not ready to purchase it will help you understand and take action on the steps to homeownership and getting yourself prepared for that process. \n[CLICK HERE TO REGISTER] \nOr\, look at some of our other FREE classes and save your spot! \n[SEE MORE DEVELOPMENT CLASSES][/vc_column_text][/vc_column][/vc_row]
URL:https://nhsie.org/event/introduction-to-homeownership-virtual-12-12-2023/
END:VEVENT
END:VCALENDAR