BEGIN:VCALENDAR
VERSION:2.0
PRODID:-//NHSIE - ECPv6.15.19//NONSGML v1.0//EN
CALSCALE:GREGORIAN
METHOD:PUBLISH
X-WR-CALNAME:NHSIE
X-ORIGINAL-URL:https://nhsie.org
X-WR-CALDESC:Events for NHSIE
REFRESH-INTERVAL;VALUE=DURATION:PT1H
X-Robots-Tag:noindex
X-PUBLISHED-TTL:PT1H
BEGIN:VTIMEZONE
TZID:America/Los_Angeles
BEGIN:DAYLIGHT
TZOFFSETFROM:-0800
TZOFFSETTO:-0700
TZNAME:PDT
DTSTART:20230312T100000
END:DAYLIGHT
BEGIN:STANDARD
TZOFFSETFROM:-0700
TZOFFSETTO:-0800
TZNAME:PST
DTSTART:20231105T090000
END:STANDARD
BEGIN:DAYLIGHT
TZOFFSETFROM:-0800
TZOFFSETTO:-0700
TZNAME:PDT
DTSTART:20240310T100000
END:DAYLIGHT
BEGIN:STANDARD
TZOFFSETFROM:-0700
TZOFFSETTO:-0800
TZNAME:PST
DTSTART:20241103T090000
END:STANDARD
BEGIN:DAYLIGHT
TZOFFSETFROM:-0800
TZOFFSETTO:-0700
TZNAME:PDT
DTSTART:20250309T100000
END:DAYLIGHT
BEGIN:STANDARD
TZOFFSETFROM:-0700
TZOFFSETTO:-0800
TZNAME:PST
DTSTART:20251102T090000
END:STANDARD
END:VTIMEZONE
BEGIN:VEVENT
DTSTART;TZID=America/Los_Angeles:20240402T180000
DTEND;TZID=America/Los_Angeles:20240402T193000
DTSTAMP:20260421T145831
CREATED:20240321T165434Z
LAST-MODIFIED:20240405T155704Z
UID:10000067-1712080800-1712086200@nhsie.org
SUMMARY:In-Person Dream for All Cohort (6 Week Program)
DESCRIPTION:[vc_row][vc_column width=”1/1″][vc_button button_color=”accent” size=”btn-xl” border_width=”0″ link=”url:https%3A%2F%2Fqdq8xe9c3m1.typeform.com%2Fto%2FG5K6xVeh|target:_blank” button_color_type=”uncode-palette” uncode_shortcode_id=”133687″]Register Now![/vc_button][/vc_column][/vc_row][vc_row][vc_column width=”1/2″][vc_single_image media=”121314″ media_width_percent=”100″ border=”yes” uncode_shortcode_id=”113225″][/vc_column][vc_column width=”1/2″][vc_column_text uncode_shortcode_id=”135715″]The Dream for All Cohort Program is an intensive eight-hour class spread over 3 weeks. The class meets twice a week on Tuesday’s and Thursday’s. \nThis course is designed to empower prospective homebuyers with essential knowledge and skills to navigate the complex world of real estate. In particular\, it will help you understand and potentially utilize the state funded\, Dream For All program\, which can provide up to 20% of your housing payment. \nThis interactive course focuses on equipping participants with the necessary tools to make informed decisions throughout the homebuying process\, emphasizing financial literacy\, money management\, financing opportunities\, and the creation\, security\, and transfer of generational wealth.\nThis comprehensive Homebuyer Education Course is designed to empower participants to make informed decisions\, fostering a community of confident and well-prepared homebuyers ready to embark on the journey of homeownership. \nThe course is laid out to cover these main areas:\nAssessing what it takes to Buy a Home\nMoney Management\nUnderstanding Credit\nObtaining a Mortgage Loan\nShopping for a Home\nProtecting your Investment[/vc_column_text][/vc_column][/vc_row]
URL:https://nhsie.org/event/dream-for-all-cohort-3-26-24/2024-04-02/
LOCATION:NHSIE Office\, 1845 Business Center Dr S Suite 120\, San Bernardino\, 92408\, United States
END:VEVENT
BEGIN:VEVENT
DTSTART;TZID=America/Los_Angeles:20240402T180000
DTEND;TZID=America/Los_Angeles:20240402T193000
DTSTAMP:20260421T145831
CREATED:20240327T220027Z
LAST-MODIFIED:20240327T234315Z
UID:10000338-1712080800-1712086200@nhsie.org
SUMMARY:In-Person City of Adelanto - Introduction to Homeownership
DESCRIPTION:[vc_row][vc_column width=”2/3″][vc_single_image media=”121344″ media_width_percent=”100″ uncode_shortcode_id=”437192″][/vc_column][vc_column width=”1/3″][vc_column_text uncode_shortcode_id=”103870″] \nNHSIE will be hosting an Q&A and Info session as well as an informational class in the City of Adelanto! \nYou should consider joining this class if you are interested in becoming a Homeowner and want to get some basic information that helps you decide if homeownership is right for you. \nThe class gives you an overview of the homebuying process and lets you know whether you can afford to buy a home now. Even if you determine that you’re not ready to purchase it will help you understand and take action on the steps to homeownership and getting yourself prepared for that process. \n[CLICK HERE TO REGISTER] \nOr\, look at some of our other FREE classes and save your spot! \n[SEE MORE DEVELOPMENT CLASSES][/vc_column_text][/vc_column][/vc_row]
URL:https://nhsie.org/event/city-of-adelanto-introduction-to-homeownership-open-house/
END:VEVENT
BEGIN:VEVENT
DTSTART;TZID=America/Los_Angeles:20240403T180000
DTEND;TZID=America/Los_Angeles:20240403T193000
DTSTAMP:20260421T145831
CREATED:20240327T231544Z
LAST-MODIFIED:20240327T234414Z
UID:10000339-1712167200-1712172600@nhsie.org
SUMMARY:Introduction to Homeownership - Virtual
DESCRIPTION:[vc_row][vc_column width=”2/3″][vc_single_image media=”121363″ media_width_percent=”100″ uncode_shortcode_id=”206736″][/vc_column][vc_column width=”1/3″][vc_column_text uncode_shortcode_id=”160866″] \n  \n  \nYou should consider joining this class if you are interested in becoming a Homeowner and want to get some basic information that helps you decide if homeownership is right for you. \nThe class gives you an overview of the homebuying process and lets you know whether you can afford to buy a home now. Even if you determine that you’re not ready to purchase it will help you understand and take action on the steps to homeownership and getting yourself prepared for that process. \n[CLICK HERE TO REGISTER] \nOr\, look at some of our other FREE classes and save your spot! \n[SEE MORE DEVELOPMENT CLASSES][/vc_column_text][/vc_column][/vc_row]
URL:https://nhsie.org/event/introduction-to-homeownership-virtual-4-3-2024/
END:VEVENT
BEGIN:VEVENT
DTSTART;TZID=America/Los_Angeles:20240404T180000
DTEND;TZID=America/Los_Angeles:20240404T193000
DTSTAMP:20260421T145831
CREATED:20240321T165434Z
LAST-MODIFIED:20240405T155704Z
UID:10000068-1712253600-1712259000@nhsie.org
SUMMARY:In-Person Dream for All Cohort (6 Week Program)
DESCRIPTION:[vc_row][vc_column width=”1/1″][vc_button button_color=”accent” size=”btn-xl” border_width=”0″ link=”url:https%3A%2F%2Fqdq8xe9c3m1.typeform.com%2Fto%2FG5K6xVeh|target:_blank” button_color_type=”uncode-palette” uncode_shortcode_id=”133687″]Register Now![/vc_button][/vc_column][/vc_row][vc_row][vc_column width=”1/2″][vc_single_image media=”121314″ media_width_percent=”100″ border=”yes” uncode_shortcode_id=”113225″][/vc_column][vc_column width=”1/2″][vc_column_text uncode_shortcode_id=”135715″]The Dream for All Cohort Program is an intensive eight-hour class spread over 3 weeks. The class meets twice a week on Tuesday’s and Thursday’s. \nThis course is designed to empower prospective homebuyers with essential knowledge and skills to navigate the complex world of real estate. In particular\, it will help you understand and potentially utilize the state funded\, Dream For All program\, which can provide up to 20% of your housing payment. \nThis interactive course focuses on equipping participants with the necessary tools to make informed decisions throughout the homebuying process\, emphasizing financial literacy\, money management\, financing opportunities\, and the creation\, security\, and transfer of generational wealth.\nThis comprehensive Homebuyer Education Course is designed to empower participants to make informed decisions\, fostering a community of confident and well-prepared homebuyers ready to embark on the journey of homeownership. \nThe course is laid out to cover these main areas:\nAssessing what it takes to Buy a Home\nMoney Management\nUnderstanding Credit\nObtaining a Mortgage Loan\nShopping for a Home\nProtecting your Investment[/vc_column_text][/vc_column][/vc_row]
URL:https://nhsie.org/event/dream-for-all-cohort-3-26-24/2024-04-04/
LOCATION:NHSIE Office\, 1845 Business Center Dr S Suite 120\, San Bernardino\, 92408\, United States
END:VEVENT
BEGIN:VEVENT
DTSTART;TZID=America/Los_Angeles:20240408T180000
DTEND;TZID=America/Los_Angeles:20240408T193000
DTSTAMP:20260421T145831
CREATED:20240327T233053Z
LAST-MODIFIED:20240327T233053Z
UID:10000342-1712599200-1712604600@nhsie.org
SUMMARY:Credit Education - Virtual
DESCRIPTION:[vc_row][vc_column width=”2/3″][vc_single_image media=”121360″ media_width_percent=”100″ uncode_shortcode_id=”176347″][/vc_column][vc_column width=”1/3″][vc_column_text uncode_shortcode_id=”460863″]The Credit Education Workshop is a dynamic one-hour session designed to provide participants with essential knowledge and skills to effectively build and manage credit\, with a specific focus on achieving homeownership goals.  \nThis workshop is crafted to enhance clients’ understanding of the fundamental principles of credit\, particularly the 4 C’s (Capacity\, Capital\, Collateral\, and Character)\, and empower them to establish and manage their credit responsibly in the pursuit of homeownership.   \nBy the end of this Credit Education Workshop\, participants will be equipped with the knowledge and tools necessary to take control of their credit\, laying a solid foundation for achieving their homeownership goals. \n[CLICK HERE TO REGISTER] \nOr\, look at some of our other FREE classes and save your spot! \n[SEE MORE DEVELOPMENT CLASSES][/vc_column_text][/vc_column][/vc_row]
URL:https://nhsie.org/event/credit-education-virtual-4-8-2024/
END:VEVENT
BEGIN:VEVENT
DTSTART;TZID=America/Los_Angeles:20240409T180000
DTEND;TZID=America/Los_Angeles:20240409T193000
DTSTAMP:20260421T145831
CREATED:20240321T165434Z
LAST-MODIFIED:20240405T155704Z
UID:10000069-1712685600-1712691000@nhsie.org
SUMMARY:In-Person Dream for All Cohort (6 Week Program)
DESCRIPTION:[vc_row][vc_column width=”1/1″][vc_button button_color=”accent” size=”btn-xl” border_width=”0″ link=”url:https%3A%2F%2Fqdq8xe9c3m1.typeform.com%2Fto%2FG5K6xVeh|target:_blank” button_color_type=”uncode-palette” uncode_shortcode_id=”133687″]Register Now![/vc_button][/vc_column][/vc_row][vc_row][vc_column width=”1/2″][vc_single_image media=”121314″ media_width_percent=”100″ border=”yes” uncode_shortcode_id=”113225″][/vc_column][vc_column width=”1/2″][vc_column_text uncode_shortcode_id=”135715″]The Dream for All Cohort Program is an intensive eight-hour class spread over 3 weeks. The class meets twice a week on Tuesday’s and Thursday’s. \nThis course is designed to empower prospective homebuyers with essential knowledge and skills to navigate the complex world of real estate. In particular\, it will help you understand and potentially utilize the state funded\, Dream For All program\, which can provide up to 20% of your housing payment. \nThis interactive course focuses on equipping participants with the necessary tools to make informed decisions throughout the homebuying process\, emphasizing financial literacy\, money management\, financing opportunities\, and the creation\, security\, and transfer of generational wealth.\nThis comprehensive Homebuyer Education Course is designed to empower participants to make informed decisions\, fostering a community of confident and well-prepared homebuyers ready to embark on the journey of homeownership. \nThe course is laid out to cover these main areas:\nAssessing what it takes to Buy a Home\nMoney Management\nUnderstanding Credit\nObtaining a Mortgage Loan\nShopping for a Home\nProtecting your Investment[/vc_column_text][/vc_column][/vc_row]
URL:https://nhsie.org/event/dream-for-all-cohort-3-26-24/2024-04-09/
LOCATION:NHSIE Office\, 1845 Business Center Dr S Suite 120\, San Bernardino\, 92408\, United States
END:VEVENT
BEGIN:VEVENT
DTSTART;TZID=America/Los_Angeles:20240411T180000
DTEND;TZID=America/Los_Angeles:20240411T193000
DTSTAMP:20260421T145831
CREATED:20240321T165434Z
LAST-MODIFIED:20240405T155704Z
UID:10000070-1712858400-1712863800@nhsie.org
SUMMARY:In-Person Dream for All Cohort (6 Week Program)
DESCRIPTION:[vc_row][vc_column width=”1/1″][vc_button button_color=”accent” size=”btn-xl” border_width=”0″ link=”url:https%3A%2F%2Fqdq8xe9c3m1.typeform.com%2Fto%2FG5K6xVeh|target:_blank” button_color_type=”uncode-palette” uncode_shortcode_id=”133687″]Register Now![/vc_button][/vc_column][/vc_row][vc_row][vc_column width=”1/2″][vc_single_image media=”121314″ media_width_percent=”100″ border=”yes” uncode_shortcode_id=”113225″][/vc_column][vc_column width=”1/2″][vc_column_text uncode_shortcode_id=”135715″]The Dream for All Cohort Program is an intensive eight-hour class spread over 3 weeks. The class meets twice a week on Tuesday’s and Thursday’s. \nThis course is designed to empower prospective homebuyers with essential knowledge and skills to navigate the complex world of real estate. In particular\, it will help you understand and potentially utilize the state funded\, Dream For All program\, which can provide up to 20% of your housing payment. \nThis interactive course focuses on equipping participants with the necessary tools to make informed decisions throughout the homebuying process\, emphasizing financial literacy\, money management\, financing opportunities\, and the creation\, security\, and transfer of generational wealth.\nThis comprehensive Homebuyer Education Course is designed to empower participants to make informed decisions\, fostering a community of confident and well-prepared homebuyers ready to embark on the journey of homeownership. \nThe course is laid out to cover these main areas:\nAssessing what it takes to Buy a Home\nMoney Management\nUnderstanding Credit\nObtaining a Mortgage Loan\nShopping for a Home\nProtecting your Investment[/vc_column_text][/vc_column][/vc_row]
URL:https://nhsie.org/event/dream-for-all-cohort-3-26-24/2024-04-11/
LOCATION:NHSIE Office\, 1845 Business Center Dr S Suite 120\, San Bernardino\, 92408\, United States
END:VEVENT
BEGIN:VEVENT
DTSTART;TZID=America/Los_Angeles:20240413T090000
DTEND;TZID=America/Los_Angeles:20240413T170000
DTSTAMP:20260421T145831
CREATED:20240321T175333Z
LAST-MODIFIED:20240321T175333Z
UID:10000175-1712998800-1713027600@nhsie.org
SUMMARY:In-Person Home Buyer Education Class
DESCRIPTION:[vc_row][vc_column width=”1/1″][vc_button button_color=”accent” size=”btn-xl” border_width=”0″ link=”url:https%3A%2F%2Fnhsie.org%2Fwp-content%2Fuploads%2F2023%2F09%2FHome-Buyer-Education-Instructional-Sheet.pdf|target:_blank” button_color_type=”uncode-palette” uncode_shortcode_id=”205505″]Register Now![/vc_button][/vc_column][/vc_row][vc_row][vc_column width=”1/2″][vc_single_image media=”121320″ media_width_percent=”100″ border=”yes” uncode_shortcode_id=”612710″][/vc_column][vc_column width=”1/2″][vc_column_text uncode_shortcode_id=”301234″]The Homebuyer Education Course is an intensive eight-hour class designed to empower prospective homebuyers with essential knowledge and skills to navigate the complex world of real estate. This interactive course focuses on equipping participants with the necessary tools to make informed decisions throughout the homebuying process\, emphasizing financial literacy\, money management\, financing opportunities\, and the creation\, security\, and transfer of generational wealth.\nThis comprehensive Homebuyer Education Course is designed to empower participants to make informed decisions\, fostering a community of confident and well-prepared homebuyers ready to embark on the journey of homeownership. \nThe course is laid out to cover these main areas:\nAssessing what it takes to Buy a Home\nMoney Management\nUnderstanding Credit\nObtaining a Mortgage Loan\nShopping for a Home\nProtecting your Investment[/vc_column_text][/vc_column][/vc_row]
URL:https://nhsie.org/event/in-person-home-buyer-education-class-4-13-24/
LOCATION:NHSIE Office\, 1845 Business Center Dr S Suite 120\, San Bernardino\, 92408\, United States
END:VEVENT
BEGIN:VEVENT
DTSTART;TZID=America/Los_Angeles:20240424T180000
DTEND;TZID=America/Los_Angeles:20240424T193000
DTSTAMP:20260421T145831
CREATED:20240327T232838Z
LAST-MODIFIED:20240327T234454Z
UID:10000341-1713981600-1713987000@nhsie.org
SUMMARY:Introduction to Homeownership - Virtual
DESCRIPTION:[vc_row][vc_column width=”2/3″][vc_single_image media=”121366″ media_width_percent=”100″ uncode_shortcode_id=”118286″][/vc_column][vc_column width=”1/3″][vc_column_text uncode_shortcode_id=”160866″] \n  \n  \nYou should consider joining this class if you are interested in becoming a Homeowner and want to get some basic information that helps you decide if homeownership is right for you. \nThe class gives you an overview of the homebuying process and lets you know whether you can afford to buy a home now. Even if you determine that you’re not ready to purchase it will help you understand and take action on the steps to homeownership and getting yourself prepared for that process. \n[CLICK HERE TO REGISTER] \nOr\, look at some of our other FREE classes and save your spot! \n[SEE MORE DEVELOPMENT CLASSES][/vc_column_text][/vc_column][/vc_row]
URL:https://nhsie.org/event/introduction-to-homeownership-virtual-4-24-24/
END:VEVENT
BEGIN:VEVENT
DTSTART;TZID=America/Los_Angeles:20240429T180000
DTEND;TZID=America/Los_Angeles:20240429T193000
DTSTAMP:20260421T145831
CREATED:20240327T232407Z
LAST-MODIFIED:20240327T232407Z
UID:10000340-1714413600-1714419000@nhsie.org
SUMMARY:Financial Literacy & Education - Virtual
DESCRIPTION:[vc_row][vc_column width=”2/3″][vc_single_image media=”121353″ media_width_percent=”100″ uncode_shortcode_id=”194571″][/vc_column][vc_column width=”1/3″][vc_column_text uncode_shortcode_id=”121810″] \n  \n  \n  \n  \n  \n[CLICK HERE TO REGISTER] \nOr\, look at some of our other Free classes and save your spot! \n[SEE MORE DEVELOPMENT CLASSES][/vc_column_text][/vc_column][/vc_row]
URL:https://nhsie.org/event/financial-literacy-education-virtual-4-29-2024/
END:VEVENT
END:VCALENDAR