BEGIN:VCALENDAR
VERSION:2.0
PRODID:-//NHSIE - ECPv6.15.19//NONSGML v1.0//EN
CALSCALE:GREGORIAN
METHOD:PUBLISH
X-WR-CALNAME:NHSIE
X-ORIGINAL-URL:https://nhsie.org
X-WR-CALDESC:Events for NHSIE
REFRESH-INTERVAL;VALUE=DURATION:PT1H
X-Robots-Tag:noindex
X-PUBLISHED-TTL:PT1H
BEGIN:VTIMEZONE
TZID:America/Los_Angeles
BEGIN:DAYLIGHT
TZOFFSETFROM:-0800
TZOFFSETTO:-0700
TZNAME:PDT
DTSTART:20230312T100000
END:DAYLIGHT
BEGIN:STANDARD
TZOFFSETFROM:-0700
TZOFFSETTO:-0800
TZNAME:PST
DTSTART:20231105T090000
END:STANDARD
BEGIN:DAYLIGHT
TZOFFSETFROM:-0800
TZOFFSETTO:-0700
TZNAME:PDT
DTSTART:20240310T100000
END:DAYLIGHT
BEGIN:STANDARD
TZOFFSETFROM:-0700
TZOFFSETTO:-0800
TZNAME:PST
DTSTART:20241103T090000
END:STANDARD
BEGIN:DAYLIGHT
TZOFFSETFROM:-0800
TZOFFSETTO:-0700
TZNAME:PDT
DTSTART:20250309T100000
END:DAYLIGHT
BEGIN:STANDARD
TZOFFSETFROM:-0700
TZOFFSETTO:-0800
TZNAME:PST
DTSTART:20251102T090000
END:STANDARD
END:VTIMEZONE
BEGIN:VEVENT
DTSTART;TZID=America/Los_Angeles:20240508T180000
DTEND;TZID=America/Los_Angeles:20240508T193000
DTSTAMP:20260421T131102
CREATED:20240415T232150Z
LAST-MODIFIED:20240415T232150Z
UID:10000343-1715191200-1715196600@nhsie.org
SUMMARY:Introduction to Homeownership - Virtual
DESCRIPTION:[vc_row][vc_column width=”2/3″][vc_single_image media=”121466″ media_width_percent=”100″ uncode_shortcode_id=”886660″][/vc_column][vc_column width=”1/3″][vc_column_text uncode_shortcode_id=”160866″] \n  \n  \nYou should consider joining this class if you are interested in becoming a Homeowner and want to get some basic information that helps you decide if homeownership is right for you. \nThe class gives you an overview of the homebuying process and lets you know whether you can afford to buy a home now. Even if you determine that you’re not ready to purchase it will help you understand and take action on the steps to homeownership and getting yourself prepared for that process. \n[CLICK HERE TO REGISTER] \nOr\, look at some of our other FREE classes and save your spot! \n[SEE MORE DEVELOPMENT CLASSES][/vc_column_text][/vc_column][/vc_row]
URL:https://nhsie.org/event/introduction-to-homeownership-virtual-5-8-2024/
END:VEVENT
BEGIN:VEVENT
DTSTART;TZID=America/Los_Angeles:20240511T083000
DTEND;TZID=America/Los_Angeles:20240511T123000
DTSTAMP:20260421T131102
CREATED:20240415T233321Z
LAST-MODIFIED:20240415T233321Z
UID:10000350-1715416200-1715430600@nhsie.org
SUMMARY:Virtual Home Buyer Education Class (2 Days)
DESCRIPTION:[vc_row][vc_column width=”1/1″][vc_button button_color=”accent” size=”btn-xl” border_width=”0″ link=”url:https%3A%2F%2Fnhsie.org%2Fwp-content%2Fuploads%2F2023%2F09%2FHome-Buyer-Education-Instructional-Sheet.pdf|target:_blank” button_color_type=”uncode-palette” uncode_shortcode_id=”202843″]Register Now![/vc_button][/vc_column][/vc_row][vc_row][vc_column width=”1/1″][vc_single_image media=”121475″ media_width_percent=”77″ uncode_shortcode_id=”120262″][/vc_column][/vc_row]
URL:https://nhsie.org/event/virtual-home-buyer-education-class-2-days/2024-05-11/
END:VEVENT
BEGIN:VEVENT
DTSTART;TZID=America/Los_Angeles:20240513T180000
DTEND;TZID=America/Los_Angeles:20240513T193000
DTSTAMP:20260421T131102
CREATED:20240415T233013Z
LAST-MODIFIED:20240415T233013Z
UID:10000345-1715623200-1715628600@nhsie.org
SUMMARY:Credit Education - Virtual
DESCRIPTION:[vc_row][vc_column width=”2/3″][vc_single_image media=”121471″ media_width_percent=”100″ uncode_shortcode_id=”123980″][/vc_column][vc_column width=”1/3″][vc_column_text uncode_shortcode_id=”460863″]The Credit Education Workshop is a dynamic one-hour session designed to provide participants with essential knowledge and skills to effectively build and manage credit\, with a specific focus on achieving homeownership goals.  \nThis workshop is crafted to enhance clients’ understanding of the fundamental principles of credit\, particularly the 4 C’s (Capacity\, Capital\, Collateral\, and Character)\, and empower them to establish and manage their credit responsibly in the pursuit of homeownership.   \nBy the end of this Credit Education Workshop\, participants will be equipped with the knowledge and tools necessary to take control of their credit\, laying a solid foundation for achieving their homeownership goals. \n[CLICK HERE TO REGISTER] \nOr\, look at some of our other FREE classes and save your spot! \n[SEE MORE DEVELOPMENT CLASSES][/vc_column_text][/vc_column][/vc_row]
URL:https://nhsie.org/event/credit-education-virtual-5-13-2024/
END:VEVENT
BEGIN:VEVENT
DTSTART;TZID=America/Los_Angeles:20240518T083000
DTEND;TZID=America/Los_Angeles:20240518T123000
DTSTAMP:20260421T131102
CREATED:20240415T233321Z
LAST-MODIFIED:20240415T233321Z
UID:10000351-1716021000-1716035400@nhsie.org
SUMMARY:Virtual Home Buyer Education Class (2 Days)
DESCRIPTION:[vc_row][vc_column width=”1/1″][vc_button button_color=”accent” size=”btn-xl” border_width=”0″ link=”url:https%3A%2F%2Fnhsie.org%2Fwp-content%2Fuploads%2F2023%2F09%2FHome-Buyer-Education-Instructional-Sheet.pdf|target:_blank” button_color_type=”uncode-palette” uncode_shortcode_id=”202843″]Register Now![/vc_button][/vc_column][/vc_row][vc_row][vc_column width=”1/1″][vc_single_image media=”121475″ media_width_percent=”77″ uncode_shortcode_id=”120262″][/vc_column][/vc_row]
URL:https://nhsie.org/event/virtual-home-buyer-education-class-2-days/2024-05-18/
END:VEVENT
BEGIN:VEVENT
DTSTART;TZID=America/Los_Angeles:20240529T180000
DTEND;TZID=America/Los_Angeles:20240529T193000
DTSTAMP:20260421T131102
CREATED:20240415T232535Z
LAST-MODIFIED:20240415T232535Z
UID:10000344-1717005600-1717011000@nhsie.org
SUMMARY:Introduction to Homeownership - Virtual
DESCRIPTION:[vc_row][vc_column width=”2/3″][vc_single_image media=”121465″ media_width_percent=”100″ uncode_shortcode_id=”545063″][/vc_column][vc_column width=”1/3″][vc_column_text uncode_shortcode_id=”160866″] \n  \n  \nYou should consider joining this class if you are interested in becoming a Homeowner and want to get some basic information that helps you decide if homeownership is right for you. \nThe class gives you an overview of the homebuying process and lets you know whether you can afford to buy a home now. Even if you determine that you’re not ready to purchase it will help you understand and take action on the steps to homeownership and getting yourself prepared for that process. \n[CLICK HERE TO REGISTER] \nOr\, look at some of our other FREE classes and save your spot! \n[SEE MORE DEVELOPMENT CLASSES][/vc_column_text][/vc_column][/vc_row]
URL:https://nhsie.org/event/introduction-to-homeownership-virtual-5-29-2024/
END:VEVENT
END:VCALENDAR